Workbook

Sheet PLANTEAMIENTO
A1: ACTIVIDAD: ELABORAR UN PRESUPUESTO PARA UN PROYECTO DE OBRA AUDIOVISUAL
A4: Planteamiento:
A5: Se propone elaborar un presupuesto para la producción de un proyecto audiovisual que tendrá un periodo de realización de 8 meses.
A6: Se trata de un cortometraje (20 minutos) de ficción, que se comenzará a rodar dentros de unos cuatro meses.
A7: La Directora de Producción te ha pedido que la ayudes con la elaboración del presupuesto. Es tu primera tarea como Cost Controller.
A8: En los siguientes Anexos (Pestañas) se proporciona información específica sobre los costes de cada uno de los capítulos del presupuesto.
A9: La pestaña PLANTILLA está enlazada con el resto de pestañas para obtener el presupuesto final. Puedes usar esta o crear la tuya propia.
A10: Algunas consideraciones generales:
A11: El coste total no debe superar los 40.000 euros
A12: La obra se rodará en 4 días y requerirá la participación de una actriz y un actor.
A13: A modo orientativo, puedes utilizar el desglose del gasto medio por partida presupuestaria (ver abajo), incluida en los contenidos de la Unidad.
A14: Abajo se ofrece un rango de precios por partida para que pueda orientarte a determinar el coste final de cada una de ellas.
... A17: Igualmente, puedes añadir las observaciones y comentarios que consideres oportunas en las pestañas de cada capítulo.
A20: Capítulos de coste (ICAA) | B20: Rango de precios
A21: CAP. 01.-GUION Y MUSICA | B21: Mín. | C21: Max.
A22: Derechos guion | B22: 1500 | C22: 2500
A23: Derechos música | B23: 800 | C23: 1200
A24: CAP. 02.- PERSONAL ARTISTICO
A25: Actriz principal | B25: 1000 | C25: 1500
A26: Actor secundario | B26: 1200 | C26: 2200
A27: CAP. 03.- EQUIPO TECNICO
A28: Directora | B28: 3000 | C28: 4000
A29: Director de Producción | B29: 1500 | C29: 3400
A30: Directora de fotografía | B30: 800 | C30: 2000
A31: Coordinación posproducción | B31: 1000 | C31: 2000
A32: Apoyo rodaje | B32: 500 | C32: 900
A33: Sonido | B33: 900 | C33: 1250
A34: Montador | B34: 500 | C34: 1200
A35: Electricista | B35: 650 | C35: 1500
A36: Maquinista | B36: 800 | C36: 1250
A37: CAP. 04.- ESCENOGRAFIA
A38: Alquiler de decorados | B38: 950 | C38: 2000
A39: Alquiler de vestuario | B39: 350 | C39: 600
A40: CAP. 05.- ESTUDIOS DE RODAJE/SON. Y VARIOS. PRODUCCION
A41: Alquiler de sala de montaje | B41: 650 | C41: 1200
A42: Subtitulado para ciegos y sordos | B42: 375 | C42: 600
A43: CAP. 06.- MAQUINARIA, RODAJE Y TRANSPORTES
A44: Alquiler cámara | B44: 1050 | C44: 1950
A45: Material iluminación alquilado | B45: 300 | C45: 800
A46: Material maquinistas alquilado | B46: 200 | C46: 500
...

Sheet PLANTILLA
A1: ACTIVIDAD: ELABORAR UN PRESUPUESTO PARA UN PROYECTO DE OBRA AUDIOVISUAL
B4: Capítulos de coste (ICAA)
B6: CAP. 01.-GUION Y MUSICA………………………….................................. | D6: =SUM(C7:C8) -> 3000 | E6: =+D6/$C$54 -> 0.075264358
B7: Derechos de autor | C7: =+'Capítulo 1'!B15 -> 2000
B8: Derechos de música original | C8: =+'Capítulo 1'!B16 -> 1000
B9: CAP. 02.- PERSONAL ARTISTICO…………………………..……………… | D9: =SUM(C10:C11) -> 4894.16 | E9: =+D9/$C$54 -> 0.12278527
B10: Actriz principal | C10: =+'Capítulo 2'!C24 -> 2447.08
B11: Actor secundario | C11: =+'Capítulo 2'!C24 -> 2447.08
B12: CAP. 03.- EQUIPO TECNICO………………………………………………..... | D12: =SUM(C13:C21) -> 15100 | E12: =+D12/$C$54 -> 0.3788306
B13: Directora | C13: =+'Capítulo 3'!E12 -> 3000
B14: Director de Producción | C14: =+'Capítulo 3'!E13 -> 3200
B15: Directora de fotografía | C15: =+'Capítulo 3'!E14 -> 1600
B16: Coordinación posproducción | C16: =+'Capítulo 3'!E15 -> 2000
B17: Apoyo rodaje | C17: =+'Capítulo 3'!E16 -> 650
B18: Sonido | C18: =+'Capítulo 3'!E17 -> 1750
B19: Montador | C19: =+'Capítulo 3'!E18 -> 900
B20: Electricista | C20: =+'Capítulo 3'!E19 -> 800
B21: Maquinista | C21: =+'Capítulo 3'!E20 -> 1200
B22: CAP. 04.- ESCENOGRAFIA……………………………………………….. | D22: =SUM(C23:C24) -> 743.80165 | E22: =+D22/$C$54 -> 0.018660585
B23: Alquiler de decorados | C23: =+'Capítulo 4'!E11 -> 413.22314
B24: Alquiler de vestuario | C24: =+'Capítulo 4'!E12 -> 330.57851
B25: CAP. 05.- ESTUDIOS DE RODAJE/SON. Y VARIOS. PRODUCCION………………… | D25: =SUM(C26:C27) -> 1652.8926 | E25: =+D25/$C$54 -> 0.041467966
B26: Alquiler de sala de montaje | C26: =+'Capítulo 5'!E11 -> 661.15702
B27: Subtitulado para ciegos y sordos | C27: =+'Capítulo 5'!E12 -> 991.73554
B28: CAP. 06.- MAQUINARIA, RODAJE Y TRANSPORTES………………… | D28: =SUM(C29:C35) -> 749.15702 | E28: =+D28/$C$54 -> 0.018794941
B29: Alquiler cámara | C29: =+'Capítulo 6'!E18 -> 82.644628
B30: Material iluminación alquilado | C30: =+'Capítulo 6'!E19 -> 78.512397
B31: Material maquinistas alquilado | C31: =+'Capítulo 6'!E20 -> 39.669421
B32: Grupo electrógeno alquilado | C32: =+'Capítulo 6'!E21 -> 81.38843
B33: Equipo de sonido alquilado | C33: =+'Capítulo 6'!E22 -> 20.661157
B34: Furgonetas/coches alquiler | C34: =+'Capítulo 6'!E23 -> 247.93388
B35: Taxis fechas de rodaje | C35: =+'Capítulo 6'!E24 -> 198.34711
B36: CAP. 07.- VIAJES, HOTELES Y COMIDAS……………………………… | D36: =SUM(C37:C38) -> 1576.4463 | E36: =+D36/$C$54 -> 0.039550072
B37: Hoteles y comidas rodaje | C37: =+'Capítulo 7'!B12 -> 619.83471
B38: Hoteles y comidas desarrollo/localizaicón | C38: =+'Capítulo 7'!B13 -> 956.61157
B39: CAP. 08.- PELICULA VIRGEN………………………………………………… | D39: =SUM(C40) -> 537.19008 | E39: =+D39/$C$54 -> 0.013477089
B40: Compra de materiales | C40: =+'Capítulo 8 y 9'!D14 -> 537.19008
B41: CAP. 09.- LABORATORIO………………………………………………… | D41: =SUM(C42:C43) -> 4628.0992 | E41: =+D41/$C$54 -> 0.1161103
B42: Costes de postproducción en conjunto | C42: =+'Capítulo 8 y 9'!D15 -> 4628.0992
B44: CAP. 10.- SEGUROS ……………...………………………........................... | D44: =SUM(C45:C46) -> 5173.46 | E44: =+D44/$C$54 -> 0.12979238
...

Sheet Capítulo 1
A1: CAP. 01.-GUION Y MUSICA
A3: La compra de los derechos sobre el guion original está acordada con la guionista y, en estos momentos se está negociando el coste.
A4: Te han encargado cerrar la negociación con la guionista. ¿Cuál es el precio máximo que puedes ofrecer? | E4: un 5% del coste
A5: Para tener una idea de los costes visita la página:
A6: Precios de guion en España en 2023
A8: Las distintas piezas musicales que se usarán en la película ya has sido seleccionadas por la directora.
A9: Se estima un coste de los derechos entre los €800 y los €1.200, dependiendo de el tiempo de los cortes
A12: Coste total de realización máximo estimado | B12: 40000
A13: Coste Total presupuestado | B13: =PLANTILLA!C54 -> 39859.504
C14: Porcentaje sobre el total del coste
A15: Derechos guion | B15: 2000 | C15: =B15/B13 -> 0.050176239
A16: Derechos música | B16: 1000 | C16: =+B16/B12 -> 0.025 | D16: Tarifas - Kombo Films
B17: =SUM(B15:B16) -> 3000 | C17: =SUM(C15:C16) -> 0.075176239

Sheet Capítulo 2
A1: CAP. 02.- PERSONAL ARTISTICO
A3: Los miembros del equipo artístico trabajarán las mismas jornadas: 4 días de rodaje.
A4: Con ambos se ha pactado una remuneración de 500 euros NETOS por día de rodaje.
A5: Se proporciona el tipo de retención del IRPF aplicable en ambos casos, según lo han solicitado los propios artistas.
A6: Siguiendo el ejemplo que aparece en la Unidad, elabora el presupuesto de personal (necesitarás consultar las Bases de Cotización)
A7: A continuación se presenta una plantilla que puedes usar para realizar los cálculos
A8: Importante: Debes tener en cuenta que la pestaña "Plantilla" tiene habilitada y formulada una celda para el coste estimado de la actriz y otra para el coste estimado del actor, y que ambas toman su información de la misma casilla del capítulo 2 (C24). Por este motivo, y dado que se ha pactado el mismo salario con ambos, los cálculos de este capítulo se deben realizar como si se tratara de un único miembro del equipo artístico (x1).
A11: Coste total de realización máximo estimado | C11: 40000
A12: Coste Total presupuestado | C12: =+PLANTILLA!$C$54 -> 39859.504
B14: PRESUPUESTO DE COSTES DE PERSONAL | C14: Días de rodaje | D14: Salario/Día | E14: Coste Rem. | F14: Base diaria | G14: Base Total | H14: tipo de cotización (33% de la Base de Cotización) | I14: Coste de SS Empresa
B15: Salario Bruto | C15: 4 | D15: 611.77 | E15: =+C15*D15 -> 2447.08 | F15: 314 | G15: =+F15*C15 -> 1256 | H15: 0.33 | I15: =+G15*H15 -> 414.48
B16: Descuentos:
C18: Porcentaje aplicable | D18: Base de cálculo | F18: Días de rodaje | G18: Neto por día de rodaje
B19: IRPF | C19: 0.1478 | E19: =+E15*C19 -> 361.67842
B20: SS de trabajador | C20: 0.068 | E20: =+C20*G15 -> 85.408
B21: NETO A PERCIBIR POR EL TRABAJADOR | E21: =+E15-E19-E20 -> 1999.9936 | F21: =+C15 -> 4 | G21: =+E21/F21 -> 499.99839
B23: COSTES A PRESUPUESTAR: | D23: Porcentaje sobre el total del coste de realización
B24: Remuneración bruta | C24: =+E15 -> 2447.08 | D24: =+C24/'Capítulo 1'!B12 -> 0.061177
B25: Seguridad Social empresa | C25: =+I15 -> 414.48 | D25: =+C25/'Capítulo 1'!B12 -> 0.010362
B26: TOTAL COSTE DE PERSONAL | C26: =+C24+C25 -> 2861.56 | D26: =+D24+D25 -> 0.071539

Sheet Capítulo 3
A1: CAP. 03.- EQUIPO TECNICO
A3: El equipo técnico se compone de los miembros relacionados más abajo. Con cada uno de ellos se ha pactado el tipo de relación contractual que se detalla en la lista.
A4: Para los miembros que tienen una relación laboral, es necesario hacer el mismo ejercicio de cálculo que para los miembros del equipo artístico.
A5: Para los que tienen una relación mercantil es ncesario calcular el coste para todo el trabajo pactado
A6: Se facilita el número de días para cada uno de los servicios prestados.
A7: Realiza una búsqueda en internet para obtener estimaciones de los costes por día de cada uno de los miembros.
A9: Coste total de realización máximo estimado | B9: 40000
A10: Coste Total presupuestado | B10: =+PLANTILLA!$C$54 -> 39859.504
A11: Cargo | B11: Tipo de relación | C11: Remuneración por día | D11: Duración del servicio en días | E11: Coste total | F11: Porcentaje sobre el coste total de realización | G11: Coste Seguridad Social Empresa (33%) | H11: Porcentaje sobre el coste total de realización
A12: Directora | B12: Laboral | C12: 500 | D12: 6 | E12: =+C12*D12 -> 3000 | F12: =+E12/'Capítulo 1'!$B$12 -> 0.075 | G12: =+E12*0.33 -> 990 | H12: =+G12/'Capítulo 1'!$B$12 -> 0.02475 | I12: A mi parecer falta la base de cotización
A13: Director de Producción | B13: Laboral | C13: 400 | D13: 8 | E13: =+C13*D13 -> 3200 | F13: =+E13/'Capítulo 1'!$B$12 -> 0.08 | G13: =+E13*0.33 -> 1056 | H13: =+G13/'Capítulo 1'!$B$12 -> 0.0264
A14: Directora de fotografía | B14: Laboral | C14: 400 | D14: 4 | E14: =+C14*D14 -> 1600 | F14: =+E14/'Capítulo 1'!$B$12 -> 0.04 | G14: =+E14*0.33 -> 528 | H14: =+G14/'Capítulo 1'!$B$12 -> 0.0132
A15: Coordinación posproducción | B15: Laboral | C15: 200 | D15: 10 | E15: =+C15*D15 -> 2000 | F15: =+E15/'Capítulo 1'!$B$12 -> 0.05 | G15: =+E15*0.33 -> 660 | H15: =+G15/'Capítulo 1'!$B$12 -> 0.0165
A16: Apoyo rodaje | B16: Laboral | C16: 130 | D16: 5 | E16: =+C16*D16 -> 650 | F16: =+E16/'Capítulo 1'!$B$12 -> 0.01625 | G16: =+E16*0.33 -> 214.5 | H16: =+G16/'Capítulo 1'!$B$12 -> 0.0053625
A17: Sonido | B17: Mercantil | C17: 350 | D17: 5 | E17: =+C17*D17 -> 1750 | F17: =+E17/'Capítulo 1'!$B$12 -> 0.04375 | G17: 0 | H17: =+G17/'Capítulo 1'!$B$12 -> 0
A18: Montador | B18: Mercantil | C18: 300 | D18: 3 | E18: =+C18*D18 -> 900 | F18: =+E18/'Capítulo 1'!$B$12 -> 0.0225 | G18: 0 | H18: =+G18/'Capítulo 1'!$B$12 -> 0
A19: Electricista | B19: Mercantil | C19: 200 | D19: 4 | E19: =+C19*D19 -> 800 | F19: =+E19/'Capítulo 1'!$B$12 -> 0.02 | G19: 0 | H19: =+G19/'Capítulo 1'!$B$12 -> 0
A20: Maquinista | B20: Laboral | C20: 300 | D20: 4 | E20: =+C20*D20 -> 1200 | F20: =+E20/'Capítulo 1'!$B$12 -> 0.03 | G20: =+E20*0.33 -> 396 | H20: =+G20/'Capítulo 1'!$B$12 -> 0.0099
E21: =SUM(E12:E20) -> 15100 | F21: =+E21/'Capítulo 1'!$B$12 -> 0.3775 | G21: =SUM(G12:G20) -> 3844.5 | H21: =+G21/'Capítulo 1'!$B$12 -> 0.0961125

Sheet Capítulo 4
A1: CAP. 04.- ESCENOGRAFIA
A3: Te animamos a que hagas una búsqueda en internet para tener una idea de estos costes. También, sería recomendable contactar con alguna de estas empresas y obtener presupuestos orientativos.
A4: La variable Número de unidades a utilizar el el número de días de rodaje.
A7: Coste total de realización máximo estimado | B7: 40000
A8: Coste Total presupuestado | B8: =+PLANTILLA!$C$54 -> 39859.504
B10: Tipo de relación | C10: Coste por unidad | D10: Duración del servicio en días | E10: Coste total | F10: Porcentaje sobre el coste total de realización
A11: Alquiler de decorados | B11: Mercantil | C11: =125/1.21 -> 103.30579 | D11: 4 | E11: =+C11*D11 -> 413.22314 | F11: =+E11/'Capítulo 1'!$B$12 -> 0.010330579 | G11: Estancia Dormitorio | ALQUILER Y VENTA DE MUEBLES Y ATREZZO
A12: Alquiler de vestuario | B12: Mercantil | C12: =100/1.21 -> 82.644628 | D12: 4 | E12: =+C12*D12 -> 330.57851 | F12: =+E12/'Capítulo 1'!$B$12 -> 0.0082644628 | G12: alquiler vestuario Valencia teatro cine espectáculos fallas
E13: =+E12+E11 -> 743.80165 | F13: =+E13/'Capítulo 1'!$B$12 -> 0.018595041
A14: Los precios están sin IVA

Sheet Capítulo 5
A1: CAP. 05.- ESTUDIOS DE RODAJE/SON. Y VARIOS. PRODUCCION
A3: Te animamos a que hagas una búsqueda en internet para tener una idea de estos costes. También, sería recomendable contactar con alguna de estas empresas y obtener presupuestos orientativos.
A4: La variable Número de unidades a utilizar el el número de días de rodaje. | D4: En el subtitulado aparace de unidad el número de minutos
A7: Coste total de realización máximo estimado | B7: 40000
A8: Coste Total presupuestado | B8: =+PLANTILLA!$C$54 -> 39859.504
B10: Tipo de relación | C10: Coste por unidad | D10: Número de unidades | E10: Coste total | F10: Porcentaje sobre el coste total de realización
A11: Alquiler de sala de montaje | B11: Mercantil | C11: =200/1.21 -> 165.28926 | D11: 4 | E11: =+C11*D11 -> 661.15702 | F11: =+E11/'Capítulo 1'!$B$12 -> 0.016528926 | G11: tarifas – headroom estudio
A12: Subtitulado para ciegos y sordos | B12: Mercantil | C12: =D12*12/1.21 -> 99.173554 | D12: 10 | E12: =+C12*D12 -> 991.73554 | F12: =+E12/'Capítulo 1'!$B$12 -> 0.024793388 | G12: Subtitulado especial | Intrawords | Empresa certificada en ISO/UNE
E13: =+E12+E11 -> 1652.8926 | F13: =+E13/'Capítulo 1'!$B$12 -> 0.041322314

Sheet Capítulo 6
A1: CAP. 06.- MAQUINARIA, RODAJE Y TRANSPORTES
A3: La cámara que recomienda el director es una Alexa Classic 16:9
A4: La lista de materiales de iluminación y maquinistas que se va a utilizar, tiene un coste de entre 400 y 500 euros por día de rodaje
A5: El grupo electrógneo tiene un coste de entre 100 y 150 euros al día
A6: El alquiler del equipo de sonido tiene un coste de unos 160 euros al día
A7: Será necesario alquilar una furgoneta para el trasporte de de material y equipos durante el rodaje.
A8: En internet puedes encontrar varias páginas de compañías que alquilan furgonetas para cine.
A9: Se estima que será necesario contratar unos 25 taxis durante el rodaje, con un coste medio por trayecto de 10 euros.
A10: Otra información relevante para los costes del capítulo 6:
A11: En los contratos de alquiler de material de iluminación, maquinaria y equipo de sonido, conviene incluir un 3% de incremento para cubrir, posibles pérdidas y deterioros de los materiales alquilados
A12: En el alqiler de la furgoneta, también hay que incluir los costes de gasolina y aparcamiento.
A14: Coste total de realización máximo estimado | B14: 40000
A15: Coste Total presupuestado | B15: =+PLANTILLA!$C$54 -> 39859.504
B17: Tipo de relación | C17: Coste por día/unidad | D17: Número de unidades | E17: Coste total | F17: Porcentaje sobre el coste total de realización
A18: Alquiler cámara | B18: Mercantil | C18: =25/1.21 -> 20.661157 | D18: 4 | E18: =+C18*D18 -> 82.644628 | F18: =+E18/'Capítulo 1'!$B$12 -> 0.0020661157 | G18: Alquiler Sony FX6 en Madrid, Málaga y Sevilla | Camaleon Rental ™
A19: Material iluminación alquilado | B19: Mercantil | C19: =95/4/1.21 -> 19.628099 | D19: =D18 -> 4 | E19: =+C19*D19 -> 78.512397 | F19: =+E19/'Capítulo 1'!$B$12 -> 0.0019628099 | G19: Alquiler iluminación
A20: Material maquinistas alquilado | B20: Mercantil | C20: =12/1.21 -> 9.9173554 | D20: =D19 -> 4 | E20: =C20*D20 -> 39.669421 | F20: =+E20/'Capítulo 1'!$B$12 -> 0.00099173554 | G20: Grupo electrógeno 4 kvas | Homs Rentals
A21: Grupo electrógeno alquilado | B21: Mercantil | C21: =24.62/1.21 -> 20.347107 | D21: =D20 -> 4 | E21: =C21*D21 -> 81.38843 | F21: =+E21/'Capítulo 1'!$B$12 -> 0.0020347107 | G21: Buscó por el término dolly - AVisual PRO
A22: Equipo de sonido alquilado | B22: Mercantil | C22: =25/4/1.21 -> 5.1652893 | D22: =D21 -> 4 | E22: =+C22*D22 -> 20.661157 | F22: =+E22/'Capítulo 1'!$B$12 -> 0.00051652893 | G22: Micrófono de condensador direccional RØDE Videomic Pro - AVisual PRO
A23: Furgonetas/coches alquiler | B23: Mercantil | C23: =75/1.21 -> 61.983471 | D23: =D22 -> 4 | E23: =+C23*D23 -> 247.93388 | F23: =+E23/'Capítulo 1'!$B$12 -> 0.0061983471 | G23: Car Rental - Rent a Car & Van Worldwide | Europcar
A24: Taxis fechas de rodaje | B24: Mercantil | C24: =60/1.21 -> 49.586777 | D24: =D23 -> 4 | E24: =+C24*D24 -> 198.34711 | F24: =+E24/'Capítulo 1'!$B$12 -> 0.0049586777
E25: =SUM(E18:E24) -> 749.15702 | F25: =SUM(F18:F24) -> 0.018728926

Sheet Capítulo 7
A1: CAP. 07.- VIAJES, HOTELES Y COMIDAS
A3: Los costes de hoteles y comidas ya incurridos durante la fase de preproducción son de €750.
A4: Se prevé incurrir en otros €250 en este coste antes de iniciar el rodaje.
A5: Para los costes de hoteles y comidas en rodaje se estima un coste de otros €750
A8: Coste total de realización máximo estimado | B8: 40000
A9: Coste Total presupuestado | B9: =+PLANTILLA!$C$54 -> 39859.504
B11: Coste total | C11: Porcentaje sobre el coste total de realización
A12: Hoteles y comidas rodaje | B12: =750/1.21 -> 619.83471 | C12: =+B12/'Capítulo 1'!$B$12 -> 0.015495868 | D12: https://www.booking.com/hotel/es/kora-lluna.ca.html?label=msn-QPML2*DQyh_oJcr9BCMtlg-80058373651283%3Atikwd-80058526330494%3Aloc-170%3Aneo%3Amte%3Alp164672%3Adec%3Aqshotel+valencia&aid=352053&ucfs=1&arphpl=1&checkin=2026-06-11&checkout=2026-06-14&dest_id=-406131&dest_type=city&group_adults=2&req_adults=2&no_rooms=1&group_children=0&req_children=0&hpos=1&hapos=1&sr_order=popularity&nflt=price%3DEUR-min-120-1&srpvid=290b72292204144f&srepoch=1767111362&all_sr_blocks=1499640903_421638023_0_2_0&highlighted_blocks=1499640903_421638023_0_2_0&matching_block_id=1499640903_421638023_0_2_0&sr_pri_blocks=1499640903_421638023_0_2_0__26106&from=searchresults
A13: Hoteles y comidas desarrollo/localizaicón | B13: =750+250/1.21 -> 956.61157 | C13: =+B13/'Capítulo 1'!$B$12 -> 0.023915289
B14: =+B12+B13 -> 1576.4463 | C14: =SUM(C7:C13) -> 0.039411157

Sheet Capítulo 8 y 9
A1: CAP. 08.- PELICULA VIRGEN
A2: CAP. 09.- LABORATORIO
A4: En el capítulo 08 Película virgen, se incluye solamente el coste de discos duros y otros soportes electrónicos.
A5: En la siguiente página web, se pueden encontrar alugnos precios para este tipo de discos duros
A6: https://avacab-audiovisuales.com/es/discos-duros-551
A7: Se estima que será necesario adquirir 2 discos duros
A8: Los costes de postproducción se estiman en un 3% del total del coste de realización.
A10: Coste total de realización máximo estimado | B10: 40000
A11: Coste Total presupuestado | B11: =+PLANTILLA!$C$54 -> 39859.504
B13: Coste por unidad | C13: Número de unidades | D13: Coste total | E13: Porcentaje sobre el coste total de realización
A14: Compra de materiales | B14: =325/1.21 -> 268.59504 | C14: 2 | D14: =+B14*C14 -> 537.19008 | E14: =+D14/'Capítulo 1'!$B$12 -> 0.013429752 | F14: Stardom SOHOTANK ST4B31 - Caja RAID de 4 Bahías SATA 2.5"/3.5" 10Gbps - Avacab
A15: Costes de postproducción en conjunto | B15: =1400/1.21 -> 1157.0248 | C15: 4 | D15: =+B15*C15 -> 4628.0992 | E15: =B15/B11 -> 0.029027576
D16: =SUM(D14:D15) -> 5165.2893 | E16: =SUM(E14:E15) -> 0.042457328

Sheet Capítulo 10
A1: CAP. 10.- SEGUROS
A3: Los costes de Seguridad Social de la empresa se obtienen de las partidas que incluyen personal laboral
A4: Los seguros de rodaje, se calculan con un precio por día de rodaje de €125.
A6: Coste total de realización máximo estimado | B6: 40000
A7: Coste Total presupuestado | B7: =+PLANTILLA!$C$54 -> 39859.504
B11: Coste medio por persona contratada | C11: Número de personas contratadas | D11: Coste Seguridad Social Empresa (33%) | E11: Porcentaje sobre el coste total de realización
A12: Seguridad Social Empresa
A13: Equipo artístico | B13: ='Capítulo 2'!C26 -> 2861.56 | C13: 2 | D13: =+'Capítulo 2'!C25*2 -> 828.96 | E13: =+D13/'Capítulo 1'!$B$12 -> 0.020724
A14: Equipo técnico | B14: ='Capítulo 3'!C12+'Capítulo 3'!C13+'Capítulo 3'!C14+'Capítulo 3'!C15+'Capítulo 3'!C16+'Capítulo 3'!C20/6 -> 1680 | C14: 6 | D14: =+'Capítulo 3'!G21 -> 3844.5 | E14: =+D14/'Capítulo 1'!$B$12 -> 0.0961125
A15: Coste Seguridad Social Empresa | D15: =+D13+D14 -> 4673.46 | E15: =SUM(E13:E14) -> 0.1168365
B17: Coste por unidad | C17: Número de unidades | D17: Coste Seguridad Social Empresa (33%) | E17: Porcentaje sobre el coste total de realización
A18: Seguros rodaje | B18: 125 | C18: 4 | D18: =+B18*C18 -> 500 | E18: =+D18/'Capítulo 1'!$B$12 -> 0.0125
A20: Total Capítulo 10 | D20: =+D15+D18 -> 5173.46 | E20: =+D20/'Capítulo 1'!$B$12 -> 0.1293365

Sheet Capítulo 11
A1: CAP. 11.- GASTOS GENERALES
A3: El gastos de comidas en preproducción y post rodaje se estima en €350 en total
A4: Para los gastos de asesoría legal (trámites laborales), tienen un coste de €30 por contrato laboral
A5: La constabiliadd la lleva el departamento financiero como parte de su trabajo en la empresa.
A6: Se imputa un importe de €30 por día de rodaje
A8: Coste total de realización máximo estimado | B8: 40000
A9: Coste Total presupuestado | B9: =+PLANTILLA!$C$54 -> 39859.504
B11: Coste por unidad | C11: Número de unidades | D11: Coste total | E11: Porcentaje sobre el coste total de realización
A12: Comidas pre y post rodaje | B12: =350/1.21 -> 289.2562 | C12: 1 | D12: =+B12*C12 -> 289.2562 | E12: =+D12/'Capítulo 1'!$B$12 -> 0.007231405
A13: Asesoría legal | B13: =30/1.21 -> 24.793388 | C13: 8 | D13: =+B13*C13 -> 198.34711 | E13: =+D13/'Capítulo 1'!$B$12 -> 0.0049586777
A14: Contabilidad | B14: =30 -> 30 | C14: 4 | D14: =+B14*C14 -> 120 | E14: =+D14/'Capítulo 1'!$B$12 -> 0.003
D15: =SUM(D12:D14) -> 607.60331 | E15: =SUM(E12:E14) -> 0.015190083

Sheet Capítulo 12
A1: CAP. 12.- GASTOS EXPLOTACION COMERCIO Y FINANCIACION
A3: La productora prevé usar sus propios medios para publicitar el corto y no tiene previsto imputar estos costes al cortometraje.
A4: El único coste a presupuestar es el de la participación cuatro o cinco festivales. Es necesario incluir los costes de inscripción y los de viaje al lugar de celebración.
A5: https://www.flooxernow.com/noticias/cuanto-costaria-inscribir-pelicula-festival-cine_201804175adeac730cf21c5e26f5685f.html
A6: En este punto del presupuesto, debes decidir a cuántos festivales presentar el corto.
A7: En cuanto a los viajes para promocionar el corto en los festivales, la variable número de unidades, también es el número de festivales.
A9: Coste total de realización máximo estimado | B9: 40000
A10: Coste Total presupuestado | B10: =+PLANTILLA!$C$54 -> 39859.504
B12: Coste por unidad | C12: Número de unidades: festivales | D12: Coste total | E12: Porcentaje sobre el coste total de realización
A13: Inscripcción | B13: =50 -> 50 | C13: 8 | D13: =+B13*C13 -> 400 | E13: =+D13/'Capítulo 1'!$B$12 -> 0.01
A14: Viajes: transporte, alojamiento | B14: =25*2+30*2/1.21 -> 99.586777 | C14: 8 | D14: =+B14*C14 -> 796.69421 | E14: =+D14/'Capítulo 1'!$B$12 -> 0.019917355
D15: =SUM(D13:D14) -> 1196.6942 | E15: =SUM(E13:E14) -> 0.029917355
